BEGIN:VCALENDAR
VERSION:2.0
PRODID:-//eventon.com NONSGML v1.0//EN
BEGIN:VEVENT
UID:69e701b72ea98
DTSTAMP:20260421T044855
DTSTART:20240222T170000Z
DTEND:20240222T180000Z
TZID:America/New_York
LOCATION:
SUMMARY:CEU Event - Programming for Progress with BCBA Shayna Gaunt and BCBA Shira Karpel
DESCRIPTION: Often with programming\,  we go from assessment to plan and can miss the big picture. We&#8217;re all about details and breaking bigger skills into smaller components\,  but we should be focused on the big picture. Is working on this program actually meaningful for this student? Will this improve their life[..]\nhttps://howtoaba.com/events/ceu-event-programming-for-progress-with-bcba-shayna-gaunt-2/
URL:https://howtoaba.com/events/ceu-event-programming-for-progress-with-bcba-shayna-gaunt-2/
END:VEVENT
END:VCALENDAR